BEGIN:VCALENDAR
VERSION:2.0
PRODID:-//Sabre//Sabre VObject 4.5.8//EN
CALSCALE:GREGORIAN
BEGIN:VEVENT
UID:sabre-vobject-2a3a99af-a237-4c24-9f0d-ee0be63c4939
DTSTAMP:20260424T082525Z
SUMMARY:Spring Car Care Month Oil Change Special
DESCRIPTION:Save $5 on standard oil changes for the entire month of April.
X-ALT-DESC:FMTTYPE=text/html:<!DOCTYPE HTML PUBLIC "-//W3C//DTD HTML 3.2//E
 N"><HTML>Save $5 on standard oil changes for the entire month of April.</H
 TML>
CREATED;TZID=America/Chicago:20170913T134244
URL;VALUE=URI:https://rockisland.armymwr.com/calendar/event
DTSTART;TZID=America/Chicago:20170401T000000
DTEND;TZID=America/Chicago:20170401T000000
SEQUENCE:0
END:VEVENT
END:VCALENDAR
