BEGIN:VCALENDAR
VERSION:2.0
PRODID:-//Sabre//Sabre VObject 4.5.8//EN
CALSCALE:GREGORIAN
BEGIN:VEVENT
UID:sabre-vobject-4ec9c3be-9778-4cdb-8978-a7bac0362a72
DTSTAMP:20260423T074338Z
SUMMARY:T-Ball Spring Training
DESCRIPTION:T-Ball instructional program for 4-5 year olds.
X-ALT-DESC:FMTTYPE=text/html:<!DOCTYPE HTML PUBLIC "-//W3C//DTD HTML 3.2//E
 N"><HTML>T-Ball instructional program for 4-5 year olds.</HTML>
CREATED;TZID=America/Chicago:20170913T134244
URL;VALUE=URI:https://rockisland.armymwr.com/calendar/event
DTSTART;TZID=America/Chicago:20170415T090000
DTEND;TZID=America/Chicago:20170415T100000
SEQUENCE:0
END:VEVENT
END:VCALENDAR
