BEGIN:VCALENDAR
VERSION:2.0
PRODID:-//Sabre//Sabre VObject 4.5.8//EN
CALSCALE:GREGORIAN
BEGIN:VEVENT
UID:sabre-vobject-079334c4-999b-430e-b8aa-feb78b95215d
DTSTAMP:20260424T082525Z
SUMMARY:Stomp at the Adler Theater
DESCRIPTION:Leisure Travel has your discount tickets to this percussive hit
  show.
X-ALT-DESC:FMTTYPE=text/html:<!DOCTYPE HTML PUBLIC "-//W3C//DTD HTML 3.2//E
 N"><HTML>Leisure Travel has your discount tickets to this percussive hit s
 how.</HTML>
CREATED;TZID=America/Chicago:20170913T134244
URL;VALUE=URI:https://rockisland.armymwr.com/calendar/event
DTSTART;TZID=America/Chicago:20170425T193000
DTEND;TZID=America/Chicago:20170425T220000
SEQUENCE:0
END:VEVENT
END:VCALENDAR
