BEGIN:VCALENDAR
VERSION:2.0
PRODID:-//Sabre//Sabre VObject 4.5.8//EN
CALSCALE:GREGORIAN
BEGIN:VEVENT
UID:sabre-vobject-1f0b622d-13a8-4fbd-8863-7d4bbb69e480
DTSTAMP:20260423T002426Z
SUMMARY:Thrift Savings Plan Review
DESCRIPTION:Learn how the Thrift Savings Plan can help you manage your fina
 nces better.
X-ALT-DESC:FMTTYPE=text/html:<!DOCTYPE HTML PUBLIC "-//W3C//DTD HTML 3.2//E
 N"><HTML>Learn how the Thrift Savings Plan can help you manage your financ
 es better.</HTML>
CREATED;TZID=America/Chicago:20170913T134244
URL;VALUE=URI:https://rockisland.armymwr.com/calendar/event
DTSTART;TZID=America/Chicago:20170526T130000
DTEND;TZID=America/Chicago:20170526T140000
SEQUENCE:0
END:VEVENT
END:VCALENDAR
