BEGIN:VCALENDAR
VERSION:2.0
PRODID:-//Sabre//Sabre VObject 4.5.8//EN
CALSCALE:GREGORIAN
BEGIN:VEVENT
UID:sabre-vobject-5e3902b5-5634-4ba6-951c-5f77ab3d0afa
DTSTAMP:20260423T005116Z
SUMMARY:Professional Growth and Resiliency Workshop
DESCRIPTION:This free workshop will give you some great tips on growing as 
 an Army professional.\n
X-ALT-DESC:FMTTYPE=text/html:<!DOCTYPE HTML PUBLIC "-//W3C//DTD HTML 3.2//E
 N"><HTML><p>This free workshop will give you some great tips on growing as
  an Army professional.</p>\n</HTML>
CREATED;TZID=America/Chicago:20170913T134244
URL;VALUE=URI:https://rockisland.armymwr.com/calendar/event
DTSTART;TZID=America/Chicago:20170608T083000
DTEND;TZID=America/Chicago:20170609T160000
SEQUENCE:0
END:VEVENT
END:VCALENDAR
