BEGIN:VCALENDAR
VERSION:2.0
PRODID:-//Sabre//Sabre VObject 4.5.8//EN
CALSCALE:GREGORIAN
BEGIN:VEVENT
UID:sabre-vobject-3053e466-ba92-4e97-afcf-e69db83e7264
DTSTAMP:20260423T024124Z
SUMMARY:First Friday Social + Bags Tournament 
DESCRIPTION:This month&#39\;s First Friday features a Bags Tournament!\n
X-ALT-DESC:FMTTYPE=text/html:<!DOCTYPE HTML PUBLIC "-//W3C//DTD HTML 3.2//E
 N"><HTML><p>This month&#39\;s First Friday features a Bags Tournament!</p>
 \n</HTML>
CREATED;TZID=America/Chicago:20170913T134244
URL;VALUE=URI:https://rockisland.armymwr.com/calendar/event
DTSTART;TZID=America/Chicago:20170602T150000
DTEND;TZID=America/Chicago:20170602T190000
SEQUENCE:0
END:VEVENT
END:VCALENDAR
