BEGIN:VCALENDAR
VERSION:2.0
PRODID:-//Sabre//Sabre VObject 4.5.8//EN
CALSCALE:GREGORIAN
BEGIN:VEVENT
UID:sabre-vobject-58edd93f-7335-4bb5-97c6-b663e87f83f1
DTSTAMP:20260422T081042Z
SUMMARY:Newcomer's Orientation and Bus Tour
DESCRIPTION:Sign up to learn about all that the Rock Island Arsenal &amp\; 
 surrounding communities have to offer.\n
X-ALT-DESC:FMTTYPE=text/html:<!DOCTYPE HTML PUBLIC "-//W3C//DTD HTML 3.2//E
 N"><HTML><p>Sign up to learn about all that the Rock Island Arsenal &amp\;
  surrounding communities have to offer.</p>\n</HTML>
CREATED;TZID=America/Chicago:20170913T134244
URL;VALUE=URI:https://rockisland.armymwr.com/
DTSTART;TZID=America/Chicago:20170622T080000
DTEND;TZID=America/Chicago:20170622T170000
SEQUENCE:0
END:VEVENT
END:VCALENDAR
