BEGIN:VCALENDAR
VERSION:2.0
PRODID:-//Sabre//Sabre VObject 4.5.8//EN
CALSCALE:GREGORIAN
BEGIN:VEVENT
UID:sabre-vobject-f5c98811-3fd0-433b-a740-f030cd208b60
DTSTAMP:20260422T013933Z
SUMMARY:Advanced Resume Class: Ten Steps to a Federal Job
DESCRIPTION:Come learn the tips to help you land that Federal job\n
X-ALT-DESC:FMTTYPE=text/html:<!DOCTYPE HTML PUBLIC "-//W3C//DTD HTML 3.2//E
 N"><HTML><p>Come learn the tips to help you land that Federal job</p>\n</H
 TML>
CREATED;TZID=America/Chicago:20170913T134244
URL;VALUE=URI:https://rockisland.armymwr.com/calendar/event
DTSTART;TZID=America/Chicago:20170707T133000
DTEND;TZID=America/Chicago:20170707T153000
SEQUENCE:0
END:VEVENT
END:VCALENDAR
