BEGIN:VCALENDAR
VERSION:2.0
PRODID:-//Sabre//Sabre VObject 4.5.8//EN
CALSCALE:GREGORIAN
BEGIN:VEVENT
UID:sabre-vobject-48b5db65-ed37-48bb-8a36-8f21abcb500d
DTSTAMP:20260422T013932Z
SUMMARY:USAG RIA Services Closures
DESCRIPTION:Click here to learn which Garrison services will be available t
 oday.\n
X-ALT-DESC:FMTTYPE=text/html:<!DOCTYPE HTML PUBLIC "-//W3C//DTD HTML 3.2//E
 N"><HTML><p>Click here to learn which Garrison services will be available 
 today.</p>\n</HTML>
CREATED;TZID=America/Chicago:20170913T134244
URL;VALUE=URI:https://rockisland.armymwr.com/calendar/event
DTSTART;TZID=America/Chicago:20170703T000000
DTEND;TZID=America/Chicago:20170703T235959
SEQUENCE:0
END:VEVENT
END:VCALENDAR
