BEGIN:VCALENDAR
VERSION:2.0
PRODID:-//Sabre//Sabre VObject 4.5.8//EN
CALSCALE:GREGORIAN
BEGIN:VEVENT
UID:sabre-vobject-e2f3c98a-1ce3-47ea-9c6b-fd82315f9074
DTSTAMP:20260421T140450Z
SUMMARY:Bags Tournament at First Friday
DESCRIPTION:Get a teammate and come show your bags skills at First Friday i
 n August.\n
X-ALT-DESC:FMTTYPE=text/html:<!DOCTYPE HTML PUBLIC "-//W3C//DTD HTML 3.2//E
 N"><HTML><p>Get a teammate and come show your bags skills at First Friday 
 in August.</p>\n</HTML>
CREATED;TZID=America/Chicago:20170913T134245
URL;VALUE=URI:https://rockisland.armymwr.com/calendar/event
DTSTART;TZID=America/Chicago:20170804T170000
DTEND;TZID=America/Chicago:20170804T190000
SEQUENCE:0
END:VEVENT
END:VCALENDAR
