BEGIN:VCALENDAR
VERSION:2.0
PRODID:-//Sabre//Sabre VObject 4.5.8//EN
CALSCALE:GREGORIAN
BEGIN:VEVENT
UID:sabre-vobject-f40cef59-246b-4b2f-8dc4-804437451662
DTSTAMP:20260420T131827Z
SUMMARY:Bags Tournament at First Friday
DESCRIPTION:Get a teammate and come show your bags skills at First Friday i
 n September\n
X-ALT-DESC:FMTTYPE=text/html:<!DOCTYPE HTML PUBLIC "-//W3C//DTD HTML 3.2//E
 N"><HTML><p>Get a teammate and come show your bags skills at First Friday 
 in September</p>\n</HTML>
CREATED;TZID=America/Chicago:20170913T134245
URL;VALUE=URI:https://rockisland.armymwr.com/calendar/event
DTSTART;TZID=America/Chicago:20170908T170000
DTEND;TZID=America/Chicago:20170908T220000
SEQUENCE:0
END:VEVENT
END:VCALENDAR
