BEGIN:VCALENDAR
VERSION:2.0
PRODID:-//Sabre//Sabre VObject 4.5.8//EN
CALSCALE:GREGORIAN
BEGIN:VEVENT
UID:sabre-vobject-fdb4ffb1-844c-4d6e-83f9-ed7b9b263a21
DTSTAMP:20260420T131826Z
SUMMARY:Survivor Outreach Services Support Group Meeting
DESCRIPTION:Meet &amp\; network with other Survivors.\n
X-ALT-DESC:FMTTYPE=text/html:<!DOCTYPE HTML PUBLIC "-//W3C//DTD HTML 3.2//E
 N"><HTML><p>Meet &amp\; network with other Survivors.</p>\n</HTML>
CREATED;TZID=America/Chicago:20170913T134245
URL;VALUE=URI:https://rockisland.armymwr.com/calendar/event
DTSTART;TZID=America/Chicago:20170907T130000
DTEND;TZID=America/Chicago:20170907T140000
SEQUENCE:0
END:VEVENT
END:VCALENDAR
