BEGIN:VCALENDAR
VERSION:2.0
PRODID:-//Sabre//Sabre VObject 4.5.8//EN
CALSCALE:GREGORIAN
BEGIN:VEVENT
UID:sabre-vobject-7236b415-d89c-4784-b0a8-d648c40ab9ab
DTSTAMP:20260421T220025Z
SUMMARY:Holiday Tree Lighting
DESCRIPTION:Holiday Tree Lighting\n
X-ALT-DESC:FMTTYPE=text/html:<!DOCTYPE HTML PUBLIC "-//W3C//DTD HTML 3.2//E
 N"><HTML><p>Holiday Tree Lighting</p>\n</HTML>
CREATED;TZID=America/Chicago:20241122T101538
URL;VALUE=URI:https://rockisland.armymwr.com/calendar/event
DTSTART;TZID=America/Chicago:20241206T160000
DTEND;TZID=America/Chicago:20241206T190000
SEQUENCE:0
END:VEVENT
END:VCALENDAR
