BEGIN:VCALENDAR
VERSION:2.0
PRODID:-//Sabre//Sabre VObject 4.5.8//EN
CALSCALE:GREGORIAN
BEGIN:VEVENT
UID:sabre-vobject-8e25ace4-cb71-4093-8fb6-952a5c045a93
DTSTAMP:20260422T033401Z
SUMMARY:Army VS Navy Football Game Watch Party
DESCRIPTION:Army VS Navy Football Game Watch Party\n
X-ALT-DESC:FMTTYPE=text/html:<!DOCTYPE HTML PUBLIC "-//W3C//DTD HTML 3.2//E
 N"><HTML><p>Army VS Navy Football Game Watch Party</p>\n</HTML>
CREATED;TZID=America/Chicago:20241122T102325
URL;VALUE=URI:https://rockisland.armymwr.com/calendar/event
DTSTART;TZID=America/Chicago:20241214T113000
DTEND;TZID=America/Chicago:20241214T180000
SEQUENCE:0
END:VEVENT
END:VCALENDAR
